BEGIN:VCALENDAR
VERSION:2.0
PRODID:-//Joanie Eisinger is a white light healer, psychic, and medium. - ECPv6.15.20//NONSGML v1.0//EN
CALSCALE:GREGORIAN
METHOD:PUBLISH
X-WR-CALNAME:Joanie Eisinger is a white light healer, psychic, and medium.
X-ORIGINAL-URL:https://joanieswhitelighthealing.com
X-WR-CALDESC:Events for Joanie Eisinger is a white light healer, psychic, and medium.
REFRESH-INTERVAL;VALUE=DURATION:PT1H
X-Robots-Tag:noindex
X-PUBLISHED-TTL:PT1H
BEGIN:VTIMEZONE
TZID:America/New_York
BEGIN:DAYLIGHT
TZOFFSETFROM:-0500
TZOFFSETTO:-0400
TZNAME:EDT
DTSTART:20240310T070000
END:DAYLIGHT
BEGIN:STANDARD
TZOFFSETFROM:-0400
TZOFFSETTO:-0500
TZNAME:EST
DTSTART:20241103T060000
END:STANDARD
BEGIN:DAYLIGHT
TZOFFSETFROM:-0500
TZOFFSETTO:-0400
TZNAME:EDT
DTSTART:20250309T070000
END:DAYLIGHT
BEGIN:STANDARD
TZOFFSETFROM:-0400
TZOFFSETTO:-0500
TZNAME:EST
DTSTART:20251102T060000
END:STANDARD
BEGIN:DAYLIGHT
TZOFFSETFROM:-0500
TZOFFSETTO:-0400
TZNAME:EDT
DTSTART:20260308T070000
END:DAYLIGHT
BEGIN:STANDARD
TZOFFSETFROM:-0400
TZOFFSETTO:-0500
TZNAME:EST
DTSTART:20261101T060000
END:STANDARD
END:VTIMEZONE
BEGIN:VEVENT
DTSTART;TZID=America/New_York:20251101T110000
DTEND;TZID=America/New_York:20251101T150000
DTSTAMP:20260424T093914
CREATED:20251020T002024Z
LAST-MODIFIED:20251020T002024Z
UID:404618-1761994800-1762009200@joanieswhitelighthealing.com
SUMMARY:Soulutions For Daily Living
DESCRIPTION:Saturday\, November 1st : Private Readings/Healings at Soulutions For Daily Living: 11 AM – 3PM. 126 N. State Street\, Newtown\, Pennsylvania. Honey Bellosi invited me to offer ½ hour and 1-hour readings at her heart-centered\, beautiful spiritual center. Please contact Soulutions at (215) 968.9750 to book your session. https://soulutionsfordailyliving.com/google-calendar/    https://www.facebook.com/SoulutionsForDailyLiving    https://www.instagram.com/soulutionsnewtown/
URL:https://joanieswhitelighthealing.com/event/soulutions-for-daily-living-32/
LOCATION:Soulutions for Daily Living\, 126 N. State Street\, Newtown\, PA\, United States
END:VEVENT
BEGIN:VEVENT
DTSTART;TZID=America/New_York:20251105T150000
DTEND;TZID=America/New_York:20251105T160000
DTSTAMP:20260424T093914
CREATED:20251020T002657Z
LAST-MODIFIED:20251020T002657Z
UID:404621-1762354800-1762358400@joanieswhitelighthealing.com
SUMMARY:Paranormal Club - Edison High School
DESCRIPTION:Edison High School\nParanormal Club\nGuest Speaker\n(Private):\nWednesday\, November 5 –    3-4 PM \nJoanie will return as a guest speaker at the Edison High School Paranormal Club in Edison\, New Jersey.
URL:https://joanieswhitelighthealing.com/event/paranormal-club-edison-high-school-2/
LOCATION:NJ
END:VEVENT
BEGIN:VEVENT
DTSTART;TZID=America/New_York:20251115T120000
DTEND;TZID=America/New_York:20251115T160000
DTSTAMP:20260424T093914
CREATED:20251020T003210Z
LAST-MODIFIED:20251110T234846Z
UID:404622-1763208000-1763222400@joanieswhitelighthealing.com
SUMMARY:MCNJ Psychic and Healing Fair
DESCRIPTION:Metaphysical Center of New Jersey Psychic and Healing Fair:\nSaturday\, November 15 –    12-4 PM \nJoanie will be offering readings/healings at this in-person Psychic Fair. 113 Cottage Place   Ridgewood\, New Jersey.
URL:https://joanieswhitelighthealing.com/event/mcnj-psychic-fair/
LOCATION:Metaphysical Center of New Jersey Psychic Fair\, 113 Cottage Place\, Ridgewood\, NJ\, 07450\, United States
END:VEVENT
BEGIN:VEVENT
DTSTART;TZID=America/New_York:20251119T160000
DTEND;TZID=America/New_York:20251119T170000
DTSTAMP:20260424T093914
CREATED:20251020T003958Z
LAST-MODIFIED:20251020T004043Z
UID:404627-1763568000-1763571600@joanieswhitelighthealing.com
SUMMARY:UK US Psychic Tag Team Connect Across the Pond
DESCRIPTION:UK US Psychic Tag Team Connect Across the Pond on PodBean. Live Call-in Radio Show on Wednesday\,  November 19th. 4pm-5pm (EST) – 9pm-10pm (GMT)\n\nPlease click on link to subscribe to Podbean to follow the show\, listen\, participate\, and hear it as a podcast after it has aired:\n\n\nhttp://www.ukuspsychictagteam.com
URL:https://joanieswhitelighthealing.com/event/uk-us-psychic-tag-team-connect-across-the-pond-16/
LOCATION:NJ
END:VEVENT
BEGIN:VEVENT
DTSTART;TZID=America/New_York:20251122T110000
DTEND;TZID=America/New_York:20251122T150000
DTSTAMP:20260424T093914
CREATED:20251020T002230Z
LAST-MODIFIED:20251020T002230Z
UID:404620-1763809200-1763823600@joanieswhitelighthealing.com
SUMMARY:Soulutions for Daily Living
DESCRIPTION:Saturday\, November 22nd : Private Readings/Healings at Soulutions For Daily Living: 11 AM – 3PM. 126 N. State Street\, Newtown\, Pennsylvania. Honey Bellosi invited me to offer ½ hour and 1-hour readings at her heart-centered\, beautiful spiritual center. Please contact Soulutions at (215) 968.9750 to book your session. https://soulutionsfordailyliving.com/google-calendar/    https://www.facebook.com/SoulutionsForDailyLiving    https://www.instagram.com/soulutionsnewtown/
URL:https://joanieswhitelighthealing.com/event/soulutions-for-daily-living-33/
LOCATION:NJ
END:VEVENT
END:VCALENDAR