BEGIN:VCALENDAR
VERSION:2.0
PRODID:-//Joanie Eisinger is a white light healer, psychic, and medium. - ECPv6.15.20//NONSGML v1.0//EN
CALSCALE:GREGORIAN
METHOD:PUBLISH
X-WR-CALNAME:Joanie Eisinger is a white light healer, psychic, and medium.
X-ORIGINAL-URL:https://joanieswhitelighthealing.com
X-WR-CALDESC:Events for Joanie Eisinger is a white light healer, psychic, and medium.
REFRESH-INTERVAL;VALUE=DURATION:PT1H
X-Robots-Tag:noindex
X-PUBLISHED-TTL:PT1H
BEGIN:VTIMEZONE
TZID:America/New_York
BEGIN:DAYLIGHT
TZOFFSETFROM:-0500
TZOFFSETTO:-0400
TZNAME:EDT
DTSTART:20240310T070000
END:DAYLIGHT
BEGIN:STANDARD
TZOFFSETFROM:-0400
TZOFFSETTO:-0500
TZNAME:EST
DTSTART:20241103T060000
END:STANDARD
BEGIN:DAYLIGHT
TZOFFSETFROM:-0500
TZOFFSETTO:-0400
TZNAME:EDT
DTSTART:20250309T070000
END:DAYLIGHT
BEGIN:STANDARD
TZOFFSETFROM:-0400
TZOFFSETTO:-0500
TZNAME:EST
DTSTART:20251102T060000
END:STANDARD
BEGIN:DAYLIGHT
TZOFFSETFROM:-0500
TZOFFSETTO:-0400
TZNAME:EDT
DTSTART:20260308T070000
END:DAYLIGHT
BEGIN:STANDARD
TZOFFSETFROM:-0400
TZOFFSETTO:-0500
TZNAME:EST
DTSTART:20261101T060000
END:STANDARD
END:VTIMEZONE
BEGIN:VEVENT
DTSTART;TZID=America/New_York:20250816T110000
DTEND;TZID=America/New_York:20250816T160000
DTSTAMP:20260424T144527
CREATED:20250719T173708Z
LAST-MODIFIED:20250719T173708Z
UID:402762-1755342000-1755360000@joanieswhitelighthealing.com
SUMMARY:Soulutions For Daily Living
DESCRIPTION:Saturday\, August 16th : Private Readings/Healings at Soulutions For Daily Living: 11 AM – 4PM. 126 N. State Street\, Newtown\, Pennsylvania. Honey Bellosi invited me to offer ½ hour and 1-hour readings at her heart-centered\, beautiful spiritual center. Please contact Soulutions at (215) 968.9750 to book your session. https://soulutionsfordailyliving.com/google-calendar/    https://www.facebook.com/SoulutionsForDailyLiving    https://www.instagram.com/soulutionsnewtown/
URL:https://joanieswhitelighthealing.com/event/soulutions-for-daily-living-27/
LOCATION:Soulutions for Daily Living\, 126 N. State Street\, Newtown\, PA\, United States
END:VEVENT
BEGIN:VEVENT
DTSTART;TZID=America/New_York:20250820T160000
DTEND;TZID=America/New_York:20250820T170000
DTSTAMP:20260424T144527
CREATED:20250722T232022Z
LAST-MODIFIED:20250722T232022Z
UID:402818-1755705600-1755709200@joanieswhitelighthealing.com
SUMMARY:UK US Psychic Tag Team Connect Across the Pond
DESCRIPTION:UK US Psychic Tag Team Connect Across the Pond on PodBean. Live Call-in Radio Show on Wednesday\,  August 20th. 4pm-5pm (EST) – 9pm-10pm (GMT)\n\nPlease click on link to subscribe to Podbean to follow the show\, listen\, participate\, and hear it as a podcast after it has aired:\n\n\nhttp://www.ukuspsychictagteam.com\n\n 
URL:https://joanieswhitelighthealing.com/event/uk-us-psychic-tag-team-connect-across-the-pond-13/
LOCATION:NJ
END:VEVENT
END:VCALENDAR