BEGIN:VCALENDAR
VERSION:2.0
PRODID:-//Joanie Eisinger is a white light healer, psychic, and medium. - ECPv6.15.20//NONSGML v1.0//EN
CALSCALE:GREGORIAN
METHOD:PUBLISH
X-ORIGINAL-URL:https://joanieswhitelighthealing.com
X-WR-CALDESC:Events for Joanie Eisinger is a white light healer, psychic, and medium.
REFRESH-INTERVAL;VALUE=DURATION:PT1H
X-Robots-Tag:noindex
X-PUBLISHED-TTL:PT1H
BEGIN:VTIMEZONE
TZID:America/New_York
BEGIN:DAYLIGHT
TZOFFSETFROM:-0500
TZOFFSETTO:-0400
TZNAME:EDT
DTSTART:20240310T070000
END:DAYLIGHT
BEGIN:STANDARD
TZOFFSETFROM:-0400
TZOFFSETTO:-0500
TZNAME:EST
DTSTART:20241103T060000
END:STANDARD
BEGIN:DAYLIGHT
TZOFFSETFROM:-0500
TZOFFSETTO:-0400
TZNAME:EDT
DTSTART:20250309T070000
END:DAYLIGHT
BEGIN:STANDARD
TZOFFSETFROM:-0400
TZOFFSETTO:-0500
TZNAME:EST
DTSTART:20251102T060000
END:STANDARD
BEGIN:DAYLIGHT
TZOFFSETFROM:-0500
TZOFFSETTO:-0400
TZNAME:EDT
DTSTART:20260308T070000
END:DAYLIGHT
BEGIN:STANDARD
TZOFFSETFROM:-0400
TZOFFSETTO:-0500
TZNAME:EST
DTSTART:20261101T060000
END:STANDARD
END:VTIMEZONE
BEGIN:VEVENT
DTSTART;TZID=America/New_York:20250405T110000
DTEND;TZID=America/New_York:20250405T150000
DTSTAMP:20260424T204736
CREATED:20250323T015019Z
LAST-MODIFIED:20250323T015019Z
UID:400470-1743850800-1743865200@joanieswhitelighthealing.com
SUMMARY:Soulutions for Daily Living
DESCRIPTION:Saturday\, April 5th: Private Readings/Healings at Soulutions For Daily Living: 11 AM – 3 PM. 126 N. State Street\, Newtown\, Pennsylvania. Honey Bellosi invited me to offer ½ hour and 1-hour readings at her heart-centered\, beautiful spiritual center. Please contact Soulutions at (215) 968.9750 to book your session. https://soulutionsfordailyliving.com/google-calendar/    https://www.facebook.com/SoulutionsForDailyLiving    https://www.instagram.com/soulutionsnewtown/
URL:https://joanieswhitelighthealing.com/event/soulutions-for-daily-living-22/
LOCATION:Soulutions for Daily Living\, 126 N. State Street\, Newtown\, PA\, United States
END:VEVENT
BEGIN:VEVENT
DTSTART;TZID=America/New_York:20250422T160000
DTEND;TZID=America/New_York:20250422T170000
DTSTAMP:20260424T204736
CREATED:20250323T015837Z
LAST-MODIFIED:20250418T204550Z
UID:400472-1745337600-1745341200@joanieswhitelighthealing.com
SUMMARY:UK US Psychic Tag Team Connect Across the Pond
DESCRIPTION:UK US Psychic Tag Team Connect Across the Pond on PodBean. Live Call-in Radio Show on Tuesday\, April 22\, 2025. 4pm-5pm (EST) – 9pm-10pm (GMT)\n\nPlease click on link to subscribe to Podbean to follow the show\, listen\, participate\, and hear it as a podcast after it has aired:\nhttp://www.ukuspsychictagteam.com
URL:https://joanieswhitelighthealing.com/event/uk-us-psychic-tag-team-connect-across-the-pond-9/
LOCATION:NJ
END:VEVENT
BEGIN:VEVENT
DTSTART;TZID=America/New_York:20250427T110000
DTEND;TZID=America/New_York:20250427T150000
DTSTAMP:20260424T204736
CREATED:20250323T015611Z
LAST-MODIFIED:20250323T015611Z
UID:400471-1745751600-1745766000@joanieswhitelighthealing.com
SUMMARY:Soulutions for Daily Living
DESCRIPTION:Sunday\, April 27th: Private Readings/Healings at Soulutions For Daily Living: 11 AM – 3 PM. 126 N. State Street\, Newtown\, Pennsylvania. Honey Bellosi invited me to offer ½ hour and 1-hour readings at her heart-centered\, beautiful spiritual center. Please contact Soulutions at (215) 968.9750 to book your session. https://soulutionsfordailyliving.com/google-calendar/    https://www.facebook.com/SoulutionsForDailyLiving    https://www.instagram.com/soulutionsnewtown/
URL:https://joanieswhitelighthealing.com/event/soulutions-for-daily-living-23/
LOCATION:Soulutions for Daily Living\, 126 N. State Street\, Newtown\, PA\, United States
END:VEVENT
END:VCALENDAR