BEGIN:VCALENDAR
VERSION:2.0
PRODID:-//Joanie Eisinger is a white light healer, psychic, and medium. - ECPv6.15.20//NONSGML v1.0//EN
CALSCALE:GREGORIAN
METHOD:PUBLISH
X-ORIGINAL-URL:https://joanieswhitelighthealing.com
X-WR-CALDESC:Events for Joanie Eisinger is a white light healer, psychic, and medium.
REFRESH-INTERVAL;VALUE=DURATION:PT1H
X-Robots-Tag:noindex
X-PUBLISHED-TTL:PT1H
BEGIN:VTIMEZONE
TZID:America/New_York
BEGIN:DAYLIGHT
TZOFFSETFROM:-0500
TZOFFSETTO:-0400
TZNAME:EDT
DTSTART:20240310T070000
END:DAYLIGHT
BEGIN:STANDARD
TZOFFSETFROM:-0400
TZOFFSETTO:-0500
TZNAME:EST
DTSTART:20241103T060000
END:STANDARD
BEGIN:DAYLIGHT
TZOFFSETFROM:-0500
TZOFFSETTO:-0400
TZNAME:EDT
DTSTART:20250309T070000
END:DAYLIGHT
BEGIN:STANDARD
TZOFFSETFROM:-0400
TZOFFSETTO:-0500
TZNAME:EST
DTSTART:20251102T060000
END:STANDARD
BEGIN:DAYLIGHT
TZOFFSETFROM:-0500
TZOFFSETTO:-0400
TZNAME:EDT
DTSTART:20260308T070000
END:DAYLIGHT
BEGIN:STANDARD
TZOFFSETFROM:-0400
TZOFFSETTO:-0500
TZNAME:EST
DTSTART:20261101T060000
END:STANDARD
END:VTIMEZONE
BEGIN:VEVENT
DTSTART;TZID=America/New_York:20250307T170000
DTEND;TZID=America/New_York:20250307T210000
DTSTAMP:20260424T224126
CREATED:20250224T023822Z
LAST-MODIFIED:20250224T023822Z
UID:400028-1741366800-1741381200@joanieswhitelighthealing.com
SUMMARY:Heart of Oneness Holistic Expo
DESCRIPTION:March 7\, 8\, and 9\, 2025: Joanie will be a vendor at Table 316 offering readings/healings at the Heart of Oneness Holistic Expo\, New Jersey Convention and Exposition Center\, 97 Sunfield Avenue\, Edison\, NJ 08837. Friday 5pm-9pm\, Saturday 10am-7pm\, Sunday 10am-5pm \nhttps://www.heartofonenessholisticexpo.com/
URL:https://joanieswhitelighthealing.com/event/heart-of-oneness-holistic-expo-10/
LOCATION:New Jersey Convention Center\, 97 Sunfield Avenue\, Edison\, NJ\, 08837\, United States
END:VEVENT
BEGIN:VEVENT
DTSTART;TZID=America/New_York:20250308T100000
DTEND;TZID=America/New_York:20250308T190000
DTSTAMP:20260424T224126
CREATED:20250224T024013Z
LAST-MODIFIED:20250224T024013Z
UID:400029-1741428000-1741460400@joanieswhitelighthealing.com
SUMMARY:Heart of Oneness Holistic Expo
DESCRIPTION:March 7\, 8\, and 9\, 2025: Joanie will be a vendor at Table 316 offering readings/healings at the Heart of Oneness Holistic Expo\, New Jersey Convention and Exposition Center\, 97 Sunfield Avenue\, Edison\, NJ 08837. Friday 5pm-9pm\, Saturday 10am-7pm\, Sunday 10am-5pm \nhttps://www.heartofonenessholisticexpo.com/
URL:https://joanieswhitelighthealing.com/event/heart-of-oneness-holistic-expo-11/
LOCATION:New Jersey Convention Center\, 97 Sunfield Avenue\, Edison\, NJ\, 08837\, United States
END:VEVENT
BEGIN:VEVENT
DTSTART;TZID=America/New_York:20250309T100000
DTEND;TZID=America/New_York:20250309T170000
DTSTAMP:20260424T224126
CREATED:20250224T024151Z
LAST-MODIFIED:20250224T024151Z
UID:400030-1741514400-1741539600@joanieswhitelighthealing.com
SUMMARY:Heart of Oneness Holistic Expo
DESCRIPTION:March 7\, 8\, and 9\, 2025: Joanie will be a vendor at Table 316 offering readings/healings at the Heart of Oneness Holistic Expo\, New Jersey Convention and Exposition Center\, 97 Sunfield Avenue\, Edison\, NJ 08837. Friday 5pm-9pm\, Saturday 10am-7pm\, Sunday 10am-5pm \nhttps://www.heartofonenessholisticexpo.com/
URL:https://joanieswhitelighthealing.com/event/heart-of-oneness-holistic-expo-12/
LOCATION:New Jersey Convention Center\, 97 Sunfield Avenue\, Edison\, NJ\, 08837\, United States
END:VEVENT
BEGIN:VEVENT
DTSTART;TZID=America/New_York:20250315T110000
DTEND;TZID=America/New_York:20250315T150000
DTSTAMP:20260424T224126
CREATED:20250126T013331Z
LAST-MODIFIED:20250323T014802Z
UID:399469-1742036400-1742050800@joanieswhitelighthealing.com
SUMMARY:Soulutions for Daily Living
DESCRIPTION:Saturday\, March 15th: Private Readings/Healings at Soulutions For Daily Living: 11 AM – 3 PM. 126 N. State Street\, Newtown\, Pennsylvania. Honey Bellosi invited me to offer ½ hour and 1-hour readings at her heart-centered\, beautiful spiritual center. Please contact Soulutions at (215) 968.9750 to book your session. https://soulutionsfordailyliving.com/google-calendar/    https://www.facebook.com/SoulutionsForDailyLiving    https://www.instagram.com/soulutionsnewtown/
URL:https://joanieswhitelighthealing.com/event/solutions-for-daily-living/
LOCATION:Soulutions for Daily Living\, 126 N. State Street\, Newtown\, PA\, United States
END:VEVENT
BEGIN:VEVENT
DTSTART;TZID=America/New_York:20250319T170000
DTEND;TZID=America/New_York:20250319T180000
DTSTAMP:20260424T224126
CREATED:20250224T024756Z
LAST-MODIFIED:20250319T170256Z
UID:400032-1742403600-1742407200@joanieswhitelighthealing.com
SUMMARY:UK US Psychic Tag Team Connect Across the Pond
DESCRIPTION:UK US Psychic Tag Team Connect Across the Pond on PodBean. Live Call-in Radio Show on Wednesday\, March 19\, 2025. 5pm-6pm (EST) – 9pm-10pm (GMT)\n\nPlease click on link to subscribe to Podbean to follow the show\, listen\, participate\, and hear it as a podcast after it has aired:\nhttps://www.ukuspsychictagteam.com/
URL:https://joanieswhitelighthealing.com/event/uk-us-psychic-tag-team-connect-across-the-pond-8/
LOCATION:NJ
END:VEVENT
END:VCALENDAR