BEGIN:VCALENDAR
VERSION:2.0
PRODID:-//Joanie Eisinger is a white light healer, psychic, and medium. - ECPv6.15.20//NONSGML v1.0//EN
CALSCALE:GREGORIAN
METHOD:PUBLISH
X-ORIGINAL-URL:https://joanieswhitelighthealing.com
X-WR-CALDESC:Events for Joanie Eisinger is a white light healer, psychic, and medium.
REFRESH-INTERVAL;VALUE=DURATION:PT1H
X-Robots-Tag:noindex
X-PUBLISHED-TTL:PT1H
BEGIN:VTIMEZONE
TZID:America/New_York
BEGIN:DAYLIGHT
TZOFFSETFROM:-0500
TZOFFSETTO:-0400
TZNAME:EDT
DTSTART:20230312T070000
END:DAYLIGHT
BEGIN:STANDARD
TZOFFSETFROM:-0400
TZOFFSETTO:-0500
TZNAME:EST
DTSTART:20231105T060000
END:STANDARD
BEGIN:DAYLIGHT
TZOFFSETFROM:-0500
TZOFFSETTO:-0400
TZNAME:EDT
DTSTART:20240310T070000
END:DAYLIGHT
BEGIN:STANDARD
TZOFFSETFROM:-0400
TZOFFSETTO:-0500
TZNAME:EST
DTSTART:20241103T060000
END:STANDARD
BEGIN:DAYLIGHT
TZOFFSETFROM:-0500
TZOFFSETTO:-0400
TZNAME:EDT
DTSTART:20250309T070000
END:DAYLIGHT
BEGIN:STANDARD
TZOFFSETFROM:-0400
TZOFFSETTO:-0500
TZNAME:EST
DTSTART:20251102T060000
END:STANDARD
END:VTIMEZONE
BEGIN:VEVENT
DTSTART;TZID=America/New_York:20241113T153000
DTEND;TZID=America/New_York:20241113T170000
DTSTAMP:20260425T064822
CREATED:20241022T011534Z
LAST-MODIFIED:20241113T030938Z
UID:397790-1731511800-1731517200@joanieswhitelighthealing.com
SUMMARY:UK-US Psychic Tag Team Across the Pond
DESCRIPTION:Wednesday\, November 13th: 3:30-5:00 PM (EST)/8:30-10:30 PM (GMT) –Caroline Dixon and Joanie Eisinger – “UK US Psychic Tag Team Across The Pond” on BlogTalk Radio. Caroline is a gifted psychic medium\, Reiki Master and healer\, NLP practitioner (neurolinguistic programming)\, hypnotherapist\, past-life regressionist\, and Founder of the psychic call-in business\, Crystal Heart Psychics. We will tag-team by offering readings/healings on this live call-in broadcast.  UK-US Psychic Tag Team Connect Across the Pond To listen in\, dial 619.924.0794. Press #1 for a reading.  I hope you tune in!
URL:https://joanieswhitelighthealing.com/event/uk-us-psychic-tag-team-across-the-pond-7/
LOCATION:NJ
END:VEVENT
BEGIN:VEVENT
DTSTART;TZID=America/New_York:20241123T110000
DTEND;TZID=America/New_York:20241123T150000
DTSTAMP:20260425T064822
CREATED:20241022T011336Z
LAST-MODIFIED:20241022T011336Z
UID:397789-1732359600-1732374000@joanieswhitelighthealing.com
SUMMARY:Soulutions for Daily Living
DESCRIPTION:Saturday\, November 23rd: Private Readings/Healings at Soulutions For Daily Living: 11 AM – 3 PM. 126 N. State Street\, Newtown\, Pennsylvania. Honey Bellosi invited me to offer ½ hour and 1-hour readings at her heart-centered\, beautiful spiritual center. Please contact Soulutions at (215) 968.9750 to book your session. https://soulutionsfordailyliving.com/google-calendar/    https://www.facebook.com/SoulutionsForDailyLiving    https://www.instagram.com/soulutionsnewtown/
URL:https://joanieswhitelighthealing.com/event/soulutions-for-daily-living-17/
LOCATION:Soulutions for Daily Living\, 126 N. State Street\, Newtown\, PA\, United States
END:VEVENT
END:VCALENDAR