BEGIN:VCALENDAR
VERSION:2.0
PRODID:-//Joanie Eisinger is a white light healer, psychic, and medium. - ECPv6.15.20//NONSGML v1.0//EN
CALSCALE:GREGORIAN
METHOD:PUBLISH
X-ORIGINAL-URL:https://joanieswhitelighthealing.com
X-WR-CALDESC:Events for Joanie Eisinger is a white light healer, psychic, and medium.
REFRESH-INTERVAL;VALUE=DURATION:PT1H
X-Robots-Tag:noindex
X-PUBLISHED-TTL:PT1H
BEGIN:VTIMEZONE
TZID:America/New_York
BEGIN:DAYLIGHT
TZOFFSETFROM:-0500
TZOFFSETTO:-0400
TZNAME:EDT
DTSTART:20230312T070000
END:DAYLIGHT
BEGIN:STANDARD
TZOFFSETFROM:-0400
TZOFFSETTO:-0500
TZNAME:EST
DTSTART:20231105T060000
END:STANDARD
BEGIN:DAYLIGHT
TZOFFSETFROM:-0500
TZOFFSETTO:-0400
TZNAME:EDT
DTSTART:20240310T070000
END:DAYLIGHT
BEGIN:STANDARD
TZOFFSETFROM:-0400
TZOFFSETTO:-0500
TZNAME:EST
DTSTART:20241103T060000
END:STANDARD
BEGIN:DAYLIGHT
TZOFFSETFROM:-0500
TZOFFSETTO:-0400
TZNAME:EDT
DTSTART:20250309T070000
END:DAYLIGHT
BEGIN:STANDARD
TZOFFSETFROM:-0400
TZOFFSETTO:-0500
TZNAME:EST
DTSTART:20251102T060000
END:STANDARD
END:VTIMEZONE
BEGIN:VEVENT
DTSTART;TZID=America/New_York:20241015T080000
DTEND;TZID=America/New_York:20241015T170000
DTSTAMP:20260425T100420
CREATED:20240924T032106Z
LAST-MODIFIED:20240924T032649Z
UID:397394-1728979200-1729011600@joanieswhitelighthealing.com
SUMMARY:UK-US Psychic Tag Team Across the Pond
DESCRIPTION:Tuesday\, October 15th: 3:30-5:00 PM (EST)/8:30-10:30 PM (GMT) –Caroline Dixon and Joanie Eisinger – “UK US Psychic Tag Team Across The Pond” on BlogTalk Radio. Caroline is a gifted psychic medium\, Reiki Master and healer\, NLP practitioner (neurolinguistic programming)\, hypnotherapist\, past-life regressionist\, and Founder of the psychic call-in business\, Crystal Heart Psychics. We will tag-team by offering readings/healings on this live call-in broadcast.  UK-US Psychic Tag Team Connect Across the Pond To listen in\, dial 619.924.0794. Press #1 for a reading.  I hope you tune in!
URL:https://joanieswhitelighthealing.com/event/uk-us-psychic-tag-team-across-the-pond-6/
LOCATION:NJ
END:VEVENT
BEGIN:VEVENT
DTSTART;TZID=America/New_York:20241019T110000
DTEND;TZID=America/New_York:20241019T150000
DTSTAMP:20260425T100420
CREATED:20240924T030838Z
LAST-MODIFIED:20240924T030943Z
UID:397392-1729335600-1729350000@joanieswhitelighthealing.com
SUMMARY:Soulutions for Daily Living
DESCRIPTION:Saturday\, October 19th: Private Readings/Healings at Soulutions For Daily Living: 11 AM – 3 PM. 126 N. State Street\, Newtown\, Pennsylvania. Honey Bellosi invited me to offer ½ hour and 1-hour readings at her heart-centered\, beautiful spiritual center. Please contact Soulutions at (215) 968.9750 to book your session. https://soulutionsfordailyliving.com/google-calendar/    https://www.facebook.com/SoulutionsForDailyLiving    https://www.instagram.com/soulutionsnewtown/
URL:https://joanieswhitelighthealing.com/event/soulutions-for-daily-living-16/
LOCATION:Soulutions for Daily Living\, 126 N. State Street\, Newtown\, PA\, United States
END:VEVENT
BEGIN:VEVENT
DTSTART;TZID=America/New_York:20241027T110000
DTEND;TZID=America/New_York:20241027T150000
DTSTAMP:20260425T100420
CREATED:20240924T031233Z
LAST-MODIFIED:20240924T031233Z
UID:397393-1730026800-1730041200@joanieswhitelighthealing.com
SUMMARY:Soulutions for Daily Living
DESCRIPTION:Sunday\, October 27th: Private Readings/Healings at Soulutions For Daily Living: 11 AM – 3 PM. 126 N. State Street\, Newtown\, Pennsylvania. Honey Bellosi invited me to offer ½ hour and 1-hour readings at her heart-centered\, beautiful spiritual center. Please contact Soulutions at (215) 968.9750 to book your session. https://soulutionsfordailyliving.com/google-calendar/    https://www.facebook.com/SoulutionsForDailyLiving    https://www.instagram.com/soulutionsnewtown/
URL:https://joanieswhitelighthealing.com/event/soulutions-for-daily-living-18/
LOCATION:Soulutions for Daily Living\, 126 N. State Street\, Newtown\, PA\, United States
END:VEVENT
END:VCALENDAR