BEGIN:VCALENDAR
VERSION:2.0
PRODID:-//Joanie Eisinger is a white light healer, psychic, and medium. - ECPv6.15.20//NONSGML v1.0//EN
CALSCALE:GREGORIAN
METHOD:PUBLISH
X-WR-CALNAME:Joanie Eisinger is a white light healer, psychic, and medium.
X-ORIGINAL-URL:https://joanieswhitelighthealing.com
X-WR-CALDESC:Events for Joanie Eisinger is a white light healer, psychic, and medium.
REFRESH-INTERVAL;VALUE=DURATION:PT1H
X-Robots-Tag:noindex
X-PUBLISHED-TTL:PT1H
BEGIN:VTIMEZONE
TZID:America/New_York
BEGIN:DAYLIGHT
TZOFFSETFROM:-0500
TZOFFSETTO:-0400
TZNAME:EDT
DTSTART:20250309T070000
END:DAYLIGHT
BEGIN:STANDARD
TZOFFSETFROM:-0400
TZOFFSETTO:-0500
TZNAME:EST
DTSTART:20251102T060000
END:STANDARD
BEGIN:DAYLIGHT
TZOFFSETFROM:-0500
TZOFFSETTO:-0400
TZNAME:EDT
DTSTART:20260308T070000
END:DAYLIGHT
BEGIN:STANDARD
TZOFFSETFROM:-0400
TZOFFSETTO:-0500
TZNAME:EST
DTSTART:20261101T060000
END:STANDARD
BEGIN:DAYLIGHT
TZOFFSETFROM:-0500
TZOFFSETTO:-0400
TZNAME:EDT
DTSTART:20270314T070000
END:DAYLIGHT
BEGIN:STANDARD
TZOFFSETFROM:-0400
TZOFFSETTO:-0500
TZNAME:EST
DTSTART:20271107T060000
END:STANDARD
END:VTIMEZONE
BEGIN:VEVENT
DTSTART;TZID=America/New_York:20260516T100000
DTEND;TZID=America/New_York:20260516T180000
DTSTAMP:20260425T082823
CREATED:20260423T230640Z
LAST-MODIFIED:20260423T230640Z
UID:408276-1778925600-1778954400@joanieswhitelighthealing.com
SUMMARY:Spiritual Holistic Festival
DESCRIPTION:Saturday\, May 16\, 2026: Spiritual Holistic Festival (formerly MUM Expo): 10 AM – 6 PM.  Agri-Plex Center (Ag Hall) – 1725 Chew Street (or 302 N. 17th St.) Allentown\, Pennsylvania. Joanie will be offering readings/healings at this bi-annual metaphysical fair. Please ask her table number at the front door upon entry. There is no pre-booking for this event. She will have a sign-up sheet at her table. Bring a charged phone in case you wish to tape your session. \nhttps://elysiumexpos.com/ \nhttps://www.facebook.com/events/1163334449219353/?acontext=%7B%22event_action_history%22%3A[%7B%22mechanism%22%3A%22your_upcoming_events_unit%22%2C%22surface%22%3A%22bookmark%22%7D]%2C%22ref_notif_type%22%3Anull%7D
URL:https://joanieswhitelighthealing.com/event/spiritual-holistic-festival/
LOCATION:Agri-Plex Center\, North 17th Street\, Allentown\, PA\, United States
END:VEVENT
BEGIN:VEVENT
DTSTART;TZID=America/New_York:20260517T100000
DTEND;TZID=America/New_York:20260517T180000
DTSTAMP:20260425T082823
CREATED:20260423T230731Z
LAST-MODIFIED:20260423T230731Z
UID:408277-1779012000-1779040800@joanieswhitelighthealing.com
SUMMARY:Spiritual Holistic Festival
DESCRIPTION:Sunday\, May 17\, 2026: Spiritual Holistic Festival (formerly MUM Expo): 10 AM – 6 PM.  Agri-Plex Center (Ag Hall) – 1725 Chew Street (or 302 N. 17th St.) Allentown\, Pennsylvania. Joanie will be offering readings/healings at this bi-annual metaphysical fair. Please ask her table number at the front door upon entry. There is no pre-booking for this event. She will have a sign-up sheet at her table. Bring a charged phone in case you wish to tape your session. \nhttps://elysiumexpos.com/ \nhttps://www.facebook.com/events/1163334449219353/?acontext=%7B%22event_action_history%22%3A[%7B%22mechanism%22%3A%22your_upcoming_events_unit%22%2C%22surface%22%3A%22bookmark%22%7D]%2C%22ref_notif_type%22%3Anull%7D
URL:https://joanieswhitelighthealing.com/event/spiritual-holistic-festival-2/
LOCATION:Agri-Plex Center\, North 17th Street\, Allentown\, PA\, United States
END:VEVENT
BEGIN:VEVENT
DTSTART;TZID=America/New_York:20260523T110000
DTEND;TZID=America/New_York:20260523T160000
DTSTAMP:20260425T082823
CREATED:20260423T230921Z
LAST-MODIFIED:20260423T230921Z
UID:408278-1779534000-1779552000@joanieswhitelighthealing.com
SUMMARY:Soulutions For Daily Living
DESCRIPTION:Saturday\, May 23: Soulutions For Daily Living. 11 AM- 4 PM. 126 N. State Street\, Newtown\, Pennsylvania. Private Readings/healings. Please contact Soulutions at (215) 968.9750 to book your 1/2 hour or one hour session. Bring a charged phone in case you wish to tape your session. \nhttps://soulutionsfordailyliving.com/google-calendar/ \nhttps://www.facebook.com/SoulutionsForDailyLiving \nhttps://www.instagram.com/soulutionsnewtown/
URL:https://joanieswhitelighthealing.com/event/soulutions-for-daily-living-39/
LOCATION:NJ
END:VEVENT
BEGIN:VEVENT
DTSTART;TZID=America/New_York:20260524T120000
DTEND;TZID=America/New_York:20260524T160000
DTSTAMP:20260425T082823
CREATED:20260423T231112Z
LAST-MODIFIED:20260423T231112Z
UID:408279-1779624000-1779638400@joanieswhitelighthealing.com
SUMMARY:Holistically Divine Wellness
DESCRIPTION:Sunday\, May 24: Holistically Divine Wellness.   216 Bordentown Avenue\, South Amboy\, New Jersey  08879: 12 – 4:00 PM   Joanie will be offering readings at Holistically Divine Wellness. (She is a psychic\, medium\, healer\, animal communicator\, and medical intuitive.)  Please contact her or go to the calendly link to book your session. She receives checks\, money orders\, and cash as forms of payment. Bring a charged phone in case you wish to tape your session. \nCalendly link:\nhttps://calendly.com/holisticallydivinewellness-info/30min?fbclid=IwY2xjawQXxBhleHRuA2FlbQIxMABicmlkETFMbzc5ZXBnUHBsek9ib3Bqc3J0YwZhcHBfaWQQMjIyMDM5MTc4ODIwMDg5MgABHtMfY7K4wBTn5O8O7KFZ0NdkD4rUreJ_pYLhTH6e3_KxinXkxaMrvhHXw77Y_aem_luoexxmcZiqwDfUWok49gQ&month=2026-04 \nFacebook event page:\nhttps://www.facebook.com/events/2102051847036985/?acontext=%7B%22event_action_history%22%3A[%7B%22mechanism%22%3A%22your_upcoming_events_unit%22%2C%22surface%22%3A%22bookmark%22%7D]%2C%22ref_notif_type%22%3Anull%7D
URL:https://joanieswhitelighthealing.com/event/holistically-divine-wellness-3/
LOCATION:Holistically Divine Wellness\, 216 Bordentown Avenue   South Amboy\,\, South Amboy\, NJ\, 08879\, United States
END:VEVENT
END:VCALENDAR