BEGIN:VCALENDAR
VERSION:2.0
PRODID:-//Joanie Eisinger is a white light healer, psychic, and medium. - ECPv6.15.20//NONSGML v1.0//EN
CALSCALE:GREGORIAN
METHOD:PUBLISH
X-ORIGINAL-URL:https://joanieswhitelighthealing.com
X-WR-CALDESC:Events for Joanie Eisinger is a white light healer, psychic, and medium.
REFRESH-INTERVAL;VALUE=DURATION:PT1H
X-Robots-Tag:noindex
X-PUBLISHED-TTL:PT1H
BEGIN:VTIMEZONE
TZID:America/New_York
BEGIN:DAYLIGHT
TZOFFSETFROM:-0500
TZOFFSETTO:-0400
TZNAME:EDT
DTSTART:20250309T070000
END:DAYLIGHT
BEGIN:STANDARD
TZOFFSETFROM:-0400
TZOFFSETTO:-0500
TZNAME:EST
DTSTART:20251102T060000
END:STANDARD
BEGIN:DAYLIGHT
TZOFFSETFROM:-0500
TZOFFSETTO:-0400
TZNAME:EDT
DTSTART:20260308T070000
END:DAYLIGHT
BEGIN:STANDARD
TZOFFSETFROM:-0400
TZOFFSETTO:-0500
TZNAME:EST
DTSTART:20261101T060000
END:STANDARD
BEGIN:DAYLIGHT
TZOFFSETFROM:-0500
TZOFFSETTO:-0400
TZNAME:EDT
DTSTART:20270314T070000
END:DAYLIGHT
BEGIN:STANDARD
TZOFFSETFROM:-0400
TZOFFSETTO:-0500
TZNAME:EST
DTSTART:20271107T060000
END:STANDARD
END:VTIMEZONE
BEGIN:VEVENT
DTSTART;TZID=America/New_York:20260104T100000
DTEND;TZID=America/New_York:20260104T143000
DTSTAMP:20260424T075034
CREATED:20251216T003600Z
LAST-MODIFIED:20251216T003600Z
UID:405563-1767520800-1767537000@joanieswhitelighthealing.com
SUMMARY:Holistically Divine Wellness
DESCRIPTION:Sunday\, January 4th Holistically Divine Wellness “Clarity and Creation” –  Joanie will offer readings between 10:00 AM – 2:30 PM  216 Bordentown Avenue   South Amboy\, New Jersey 08879 \nPlease sign up on the website: https://mysite.vagaro.com/holisticallydivinewellness/home
URL:https://joanieswhitelighthealing.com/event/holistically-divine-wellness/
LOCATION:Holistically Divine Wellness\, 216 Bordentown Avenue   South Amboy\,\, South Amboy\, NJ\, 08879\, United States
END:VEVENT
END:VCALENDAR