BEGIN:VCALENDAR
VERSION:2.0
PRODID:-//Joanie Eisinger is a white light healer, psychic, and medium. - ECPv6.15.20//NONSGML v1.0//EN
CALSCALE:GREGORIAN
METHOD:PUBLISH
X-ORIGINAL-URL:https://joanieswhitelighthealing.com
X-WR-CALDESC:Events for Joanie Eisinger is a white light healer, psychic, and medium.
REFRESH-INTERVAL;VALUE=DURATION:PT1H
X-Robots-Tag:noindex
X-PUBLISHED-TTL:PT1H
BEGIN:VTIMEZONE
TZID:America/New_York
BEGIN:DAYLIGHT
TZOFFSETFROM:-0500
TZOFFSETTO:-0400
TZNAME:EDT
DTSTART:20240310T070000
END:DAYLIGHT
BEGIN:STANDARD
TZOFFSETFROM:-0400
TZOFFSETTO:-0500
TZNAME:EST
DTSTART:20241103T060000
END:STANDARD
BEGIN:DAYLIGHT
TZOFFSETFROM:-0500
TZOFFSETTO:-0400
TZNAME:EDT
DTSTART:20250309T070000
END:DAYLIGHT
BEGIN:STANDARD
TZOFFSETFROM:-0400
TZOFFSETTO:-0500
TZNAME:EST
DTSTART:20251102T060000
END:STANDARD
BEGIN:DAYLIGHT
TZOFFSETFROM:-0500
TZOFFSETTO:-0400
TZNAME:EDT
DTSTART:20260308T070000
END:DAYLIGHT
BEGIN:STANDARD
TZOFFSETFROM:-0400
TZOFFSETTO:-0500
TZNAME:EST
DTSTART:20261101T060000
END:STANDARD
END:VTIMEZONE
BEGIN:VEVENT
DTSTART;TZID=America/New_York:20250928T120000
DTEND;TZID=America/New_York:20250928T170000
DTSTAMP:20260424T131950
CREATED:20250824T022042Z
LAST-MODIFIED:20250824T022042Z
UID:403512-1759060800-1759078800@joanieswhitelighthealing.com
SUMMARY:2nd Annual MetaphysiFest™ 
DESCRIPTION:2nd Annual MetaphysiFest™ : Sunday\, September 28\, 2025. 12 noon-5pm. MetaphysiFest™ is unique in that there is no replication of service\, business promoted\, or products vended. The fee for a service remains at $45 for each practitioner whether one chooses a 15 minute or 1/2 hour session. 10 vendors in all create a low key petite vibe that invites the curious\, as well as the more seasoned seeker. In its second year\, MetaphysiFest™ humbly calls for a looksee on this Sunday afternoon in September. Free admission. Long Hill Senior Center\, 769 Valley Road\, Gillette\, New Jersey.
URL:https://joanieswhitelighthealing.com/event/2nd-annual-metaphysifest/
LOCATION:Long Hill Senior Center\, 821 Valley Road\, Gillette\, NJ\, New Jersey\, 07933
END:VEVENT
END:VCALENDAR